BEGIN:VCALENDAR
VERSION:2.0
PRODID:-//Friends of Welford Road Cemetery - ECPv6.15.16//NONSGML v1.0//EN
CALSCALE:GREGORIAN
METHOD:PUBLISH
X-WR-CALNAME:Friends of Welford Road Cemetery
X-ORIGINAL-URL:https://www.fowrcl.org.uk
X-WR-CALDESC:Events for Friends of Welford Road Cemetery
REFRESH-INTERVAL;VALUE=DURATION:PT1H
X-Robots-Tag:noindex
X-PUBLISHED-TTL:PT1H
BEGIN:VTIMEZONE
TZID:Europe/London
BEGIN:DAYLIGHT
TZOFFSETFROM:+0000
TZOFFSETTO:+0100
TZNAME:BST
DTSTART:20250330T010000
END:DAYLIGHT
BEGIN:STANDARD
TZOFFSETFROM:+0100
TZOFFSETTO:+0000
TZNAME:GMT
DTSTART:20251026T010000
END:STANDARD
BEGIN:DAYLIGHT
TZOFFSETFROM:+0000
TZOFFSETTO:+0100
TZNAME:BST
DTSTART:20260329T010000
END:DAYLIGHT
BEGIN:STANDARD
TZOFFSETFROM:+0100
TZOFFSETTO:+0000
TZNAME:GMT
DTSTART:20261025T010000
END:STANDARD
BEGIN:DAYLIGHT
TZOFFSETFROM:+0000
TZOFFSETTO:+0100
TZNAME:BST
DTSTART:20270328T010000
END:DAYLIGHT
BEGIN:STANDARD
TZOFFSETFROM:+0100
TZOFFSETTO:+0000
TZNAME:GMT
DTSTART:20271031T010000
END:STANDARD
END:VTIMEZONE
BEGIN:VEVENT
DTSTART;TZID=Europe/London:20260425T103000
DTEND;TZID=Europe/London:20260425T123000
DTSTAMP:20260425T141602
CREATED:20260209T101246Z
LAST-MODIFIED:20260209T101246Z
UID:1603-1777113000-1777120200@www.fowrcl.org.uk
SUMMARY:ANZAC Day Service of Remembrance
DESCRIPTION:We invite you to attend our ANZAC Day Service on Saturday 25th April 2026. Meet at the Visitor Centre at 10:30a.m. We hope that as many members and other organisations can join us. Light Refreshments will be served in the Visitor Centre afterwards.
URL:https://www.fowrcl.org.uk/event/anzac-day-service-of-remembrance/
LOCATION:Welford Road Cemetery Leicester
ATTACH;FMTTYPE=image/jpeg:https://www.fowrcl.org.uk/wp-content/uploads/2018/01/Anzac-resized.jpg
END:VEVENT
BEGIN:VEVENT
DTSTART;TZID=Europe/London:20260419T103000
DTEND;TZID=Europe/London:20260419T123000
DTSTAMP:20260425T141602
CREATED:20260208T155051Z
LAST-MODIFIED:20260306T111549Z
UID:1569-1776594600-1776601800@www.fowrcl.org.uk
SUMMARY:Gruesome Guided Walk - Fully Booked
DESCRIPTION:Join us for a guided walk round Welford Road Cemetery when you will learn the history of the Cemetery and in particular the stories of those who met with particularly unpleasant deaths!\nCost £6 Includes refreshments in the Visitor Centre afterwards. – To book e-mail fowrcem@gmail.com\nLimited places so booking essential.\nMeet at the Visitor Centre by the Main Gates on Welford Road. Parking available on the main driveway. Walks last about 90 mins
URL:https://www.fowrcl.org.uk/event/gruesome-guided-walk/
LOCATION:Welford Road Cemetery Leicester
ATTACH;FMTTYPE=image/jpeg:https://www.fowrcl.org.uk/wp-content/uploads/2019/11/28-resized.jpg
END:VEVENT
BEGIN:VEVENT
DTSTART;TZID=Europe/London:20260410T103000
DTEND;TZID=Europe/London:20260410T123000
DTSTAMP:20260425T141602
CREATED:20260208T154822Z
LAST-MODIFIED:20260307T101054Z
UID:1566-1775817000-1775824200@www.fowrcl.org.uk
SUMMARY:General Guided Walk - Fully Booked
DESCRIPTION:Join us for a guided walk round Welford Road Cemetery when you will learn the history of the Cemetery and hear the stories of some of those buried here.\nCost £6 Includes refreshments in the Visitor Centre afterwards. – To book e-mail fowrcem@gmail.com\nLimited places so booking essential.\nMeet at the Visitor Centre by the Main Gates on Welford Road. Parking available on the main driveway. Walks last about 90 mins.
URL:https://www.fowrcl.org.uk/event/general-guided-walk/
LOCATION:Welford Road Cemetery Leicester
ATTACH;FMTTYPE=image/jpeg:https://www.fowrcl.org.uk/wp-content/uploads/2016/09/Thomas-Cook-small.jpg
END:VEVENT
END:VCALENDAR